BEGIN:VCALENDAR
VERSION:2.0
PRODID:-//Shoreline Greenway Trail - ECPv6.15.18//NONSGML v1.0//EN
CALSCALE:GREGORIAN
METHOD:PUBLISH
X-WR-CALNAME:Shoreline Greenway Trail
X-ORIGINAL-URL:https://shorelinegreenwaytrail.org
X-WR-CALDESC:Events for Shoreline Greenway Trail
REFRESH-INTERVAL;VALUE=DURATION:PT1H
X-Robots-Tag:noindex
X-PUBLISHED-TTL:PT1H
BEGIN:VTIMEZONE
TZID:America/New_York
BEGIN:DAYLIGHT
TZOFFSETFROM:-0500
TZOFFSETTO:-0400
TZNAME:EDT
DTSTART:20230312T070000
END:DAYLIGHT
BEGIN:STANDARD
TZOFFSETFROM:-0400
TZOFFSETTO:-0500
TZNAME:EST
DTSTART:20231105T060000
END:STANDARD
BEGIN:DAYLIGHT
TZOFFSETFROM:-0500
TZOFFSETTO:-0400
TZNAME:EDT
DTSTART:20240310T070000
END:DAYLIGHT
BEGIN:STANDARD
TZOFFSETFROM:-0400
TZOFFSETTO:-0500
TZNAME:EST
DTSTART:20241103T060000
END:STANDARD
BEGIN:DAYLIGHT
TZOFFSETFROM:-0500
TZOFFSETTO:-0400
TZNAME:EDT
DTSTART:20250309T070000
END:DAYLIGHT
BEGIN:STANDARD
TZOFFSETFROM:-0400
TZOFFSETTO:-0500
TZNAME:EST
DTSTART:20251102T060000
END:STANDARD
END:VTIMEZONE
BEGIN:VEVENT
DTSTART;TZID=America/New_York:20241207T100000
DTEND;TZID=America/New_York:20241207T120000
DTSTAMP:20260421T023542
CREATED:20241010T220912Z
LAST-MODIFIED:20241010T220912Z
UID:2215-1733565600-1733572800@shorelinegreenwaytrail.org
SUMMARY:1st Saturday event in Madison
DESCRIPTION:Madison December 7\, 10:00 AM\n\nEnjoy an early winter walk through a coastal forest and past a fascinating salt marsh.\n2.5 miles roundtrip. First part is paved\, then compacted gravel\, then modest hills.\nGreat bird watching!\nThe REI water station will be closed for the season\, so BYO.\nWe will update you on trail expansion before we start.\n\nMeet at the trail parking lot: I 95 exit 62\, south to traffic light\, left on Route One\, first\nright into the parking lot.\nFamilies are welcome as well as dogs on leashes.\nCheck website if weather threatens.\nQuestions: 203-318-9649
URL:https://shorelinegreenwaytrail.org/event/1st-saturday-event-in-madison-2/
CATEGORIES:First Saturdays|Madison
END:VEVENT
END:VCALENDAR