BEGIN:VCALENDAR
VERSION:2.0
PRODID:-//Shoreline Greenway Trail - ECPv6.15.18//NONSGML v1.0//EN
CALSCALE:GREGORIAN
METHOD:PUBLISH
X-WR-CALNAME:Shoreline Greenway Trail
X-ORIGINAL-URL:https://shorelinegreenwaytrail.org
X-WR-CALDESC:Events for Shoreline Greenway Trail
REFRESH-INTERVAL;VALUE=DURATION:PT1H
X-Robots-Tag:noindex
X-PUBLISHED-TTL:PT1H
BEGIN:VTIMEZONE
TZID:America/New_York
BEGIN:DAYLIGHT
TZOFFSETFROM:-0500
TZOFFSETTO:-0400
TZNAME:EDT
DTSTART:20240310T070000
END:DAYLIGHT
BEGIN:STANDARD
TZOFFSETFROM:-0400
TZOFFSETTO:-0500
TZNAME:EST
DTSTART:20241103T060000
END:STANDARD
BEGIN:DAYLIGHT
TZOFFSETFROM:-0500
TZOFFSETTO:-0400
TZNAME:EDT
DTSTART:20250309T070000
END:DAYLIGHT
BEGIN:STANDARD
TZOFFSETFROM:-0400
TZOFFSETTO:-0500
TZNAME:EST
DTSTART:20251102T060000
END:STANDARD
BEGIN:DAYLIGHT
TZOFFSETFROM:-0500
TZOFFSETTO:-0400
TZNAME:EDT
DTSTART:20260308T070000
END:DAYLIGHT
BEGIN:STANDARD
TZOFFSETFROM:-0400
TZOFFSETTO:-0500
TZNAME:EST
DTSTART:20261101T060000
END:STANDARD
END:VTIMEZONE
BEGIN:VEVENT
DTSTART;TZID=America/New_York:20250906T100000
DTEND;TZID=America/New_York:20250906T120000
DTSTAMP:20260424T154003
CREATED:20250830T140925Z
LAST-MODIFIED:20250830T140925Z
UID:4286-1757152800-1757160000@shorelinegreenwaytrail.org
SUMMARY:Join us to beautify SGT in Branford!
DESCRIPTION:The Shoreline Greenway Trail is hosting another Trail Maintenance Session! Join us at the SGT Branford stretch to beautify the trail for our Plant Identification Walkthrough the following weekend! This is an amazing way to get involved and keep our trails looking great! For high school students\, this is also an opportunity to get 2 community service hours. See the attached flyer more for details and consider helping out!\n***Make sure to dress weather appropriate. Gear will be provided but if possible\, please bring your own gloves and clippers as we have limited amounts.
URL:https://shorelinegreenwaytrail.org/event/join-us-to-beautify-sgt-in-branford/
LOCATION:63 Tabor Drive (SGT Branford Parking Lot)\, 63 Tabor Drive\, Branford\, 06405\, United States
CATEGORIES:Branford,Partner Events
END:VEVENT
BEGIN:VEVENT
DTSTART;TZID=America/New_York:20250913T100000
DTEND;TZID=America/New_York:20250913T120000
DTSTAMP:20260424T154003
CREATED:20250825T122120Z
LAST-MODIFIED:20250825T123058Z
UID:4267-1757757600-1757764800@shorelinegreenwaytrail.org
SUMMARY:Plant Identification Walkthrough - September 13th
DESCRIPTION:Discover the beauty and biodiversity of the Shoreline Greenway Trail in this educational plant identification walk hosted by Shannon Landscape and Garden Center. Join Monica\, a knowledgeable landscape designer\, as she leads a guided tour highlighting invasive weeds\, edible plants\, and native plant species found along the scenic shoreline. Learn how to recognize and differentiate plants\, and gain practical tips for identifying them in your own yard or community. Additionally\, our student intern\, Caroline Keating\, will guide participants through an engaging\, hands-on nature activity. This family-friendly event is perfect for all ages\, making it a great way to connect with nature\, gain gardening and plant knowledge\, and enjoy time outdoors!\nDetails: September 13th\, 10:00 am – 12:00 pm | Shoreline Greenway Trail Branford Parking Lot\, 63 Tabor Drive\, Branford\, CT (06437)\nhttps://lp.constantcontactpages.com/ev/reg/p4nu45p
URL:https://shorelinegreenwaytrail.org/event/plant-identification-walkthrough-september-13th/
LOCATION:63 Tabor Drive (SGT Branford Parking Lot)\, 63 Tabor Drive\, Branford\, 06405\, United States
CATEGORIES:Branford,Partner Events
END:VEVENT
END:VCALENDAR