BEGIN:VCALENDAR
VERSION:2.0
PRODID:-//Shoreline Greenway Trail - ECPv6.15.18//NONSGML v1.0//EN
CALSCALE:GREGORIAN
METHOD:PUBLISH
X-ORIGINAL-URL:https://shorelinegreenwaytrail.org
X-WR-CALDESC:Events for Shoreline Greenway Trail
REFRESH-INTERVAL;VALUE=DURATION:PT1H
X-Robots-Tag:noindex
X-PUBLISHED-TTL:PT1H
BEGIN:VTIMEZONE
TZID:America/New_York
BEGIN:DAYLIGHT
TZOFFSETFROM:-0500
TZOFFSETTO:-0400
TZNAME:EDT
DTSTART:20240310T070000
END:DAYLIGHT
BEGIN:STANDARD
TZOFFSETFROM:-0400
TZOFFSETTO:-0500
TZNAME:EST
DTSTART:20241103T060000
END:STANDARD
BEGIN:DAYLIGHT
TZOFFSETFROM:-0500
TZOFFSETTO:-0400
TZNAME:EDT
DTSTART:20250309T070000
END:DAYLIGHT
BEGIN:STANDARD
TZOFFSETFROM:-0400
TZOFFSETTO:-0500
TZNAME:EST
DTSTART:20251102T060000
END:STANDARD
BEGIN:DAYLIGHT
TZOFFSETFROM:-0500
TZOFFSETTO:-0400
TZNAME:EDT
DTSTART:20260308T070000
END:DAYLIGHT
BEGIN:STANDARD
TZOFFSETFROM:-0400
TZOFFSETTO:-0500
TZNAME:EST
DTSTART:20261101T060000
END:STANDARD
END:VTIMEZONE
BEGIN:VEVENT
DTSTART;TZID=America/New_York:20250607T100000
DTEND;TZID=America/New_York:20250607T120000
DTSTAMP:20260422T055637
CREATED:20250313T183733Z
LAST-MODIFIED:20250313T183733Z
UID:3242-1749290400-1749297600@shorelinegreenwaytrail.org
SUMMARY:Shoreline Greenway Trail celebrates National Trails Day at the Shore Line Trolley Museum\, June 7th
DESCRIPTION:Celebrate Connecticut Trails Day with Shoreline Greenway Trail and Shore Line Trolley Museum.  \nA museum volunteer will take us on a scenic trolley ride along the Farm River estuary.\n \nWe will disembark and walk to the site of the old dike at Farm River and view the remains of an old crushing plant then return by trolley to view the Museum’s collection of restored trolleys.  \nMeet at the Shore Line Trolley Museum\, June 7th\, 10 AM\, 17 River Street\, East Haven.\nQuestions – 203-469-9127 \nHost a National Trails Day Event – American Hiking Society\nThe Shore Line Trolley Museum – The oldest continuously running suburban trolley line in the USA – A National Historic District
URL:https://shorelinegreenwaytrail.org/event/shoreline-greenway-trail-celebrates-national-trails-day-at-the-shore-line-trolley-museum-june-7th/
LOCATION:CT
CATEGORIES:Branford,Branford|First Saturdays,East Haven,East Haven partner events,East Haven Walks|First Saturdays
END:VEVENT
END:VCALENDAR