BEGIN:VCALENDAR
VERSION:2.0
PRODID:-//Shoreline Greenway Trail - ECPv6.15.18//NONSGML v1.0//EN
CALSCALE:GREGORIAN
METHOD:PUBLISH
X-WR-CALNAME:Shoreline Greenway Trail
X-ORIGINAL-URL:https://shorelinegreenwaytrail.org
X-WR-CALDESC:Events for Shoreline Greenway Trail
REFRESH-INTERVAL;VALUE=DURATION:PT1H
X-Robots-Tag:noindex
X-PUBLISHED-TTL:PT1H
BEGIN:VTIMEZONE
TZID:America/New_York
BEGIN:DAYLIGHT
TZOFFSETFROM:-0500
TZOFFSETTO:-0400
TZNAME:EDT
DTSTART:20240310T070000
END:DAYLIGHT
BEGIN:STANDARD
TZOFFSETFROM:-0400
TZOFFSETTO:-0500
TZNAME:EST
DTSTART:20241103T060000
END:STANDARD
BEGIN:DAYLIGHT
TZOFFSETFROM:-0500
TZOFFSETTO:-0400
TZNAME:EDT
DTSTART:20250309T070000
END:DAYLIGHT
BEGIN:STANDARD
TZOFFSETFROM:-0400
TZOFFSETTO:-0500
TZNAME:EST
DTSTART:20251102T060000
END:STANDARD
BEGIN:DAYLIGHT
TZOFFSETFROM:-0500
TZOFFSETTO:-0400
TZNAME:EDT
DTSTART:20260308T070000
END:DAYLIGHT
BEGIN:STANDARD
TZOFFSETFROM:-0400
TZOFFSETTO:-0500
TZNAME:EST
DTSTART:20261101T060000
END:STANDARD
END:VTIMEZONE
BEGIN:VEVENT
DTSTART;TZID=America/New_York:20250802T100000
DTEND;TZID=America/New_York:20250802T120000
DTSTAMP:20260423T054716
CREATED:20250313T184428Z
LAST-MODIFIED:20250714T195855Z
UID:3249-1754128800-1754136000@shorelinegreenwaytrail.org
SUMMARY:Shoreline Greenway Trail\, Guilford First Saturday - Ride Historic Guilford
DESCRIPTION:(date ca. 2021\, photo credit B.Danley) \nTake a bike ride with us around historic Guilford. \nWe’ll ride approximately 10 miles around central Guilford on mostly flat roads and finish up at Cilantro’s for coffee\, a bite to eat and a chance to chat. \nHelmets required. \nRegister Here: https://lp.constantcontactpages.com/ev/reg/9va5fxm\nMeet the Guilford Team in the Town Hall parking lot (31 Park St) off the Guilford Green.\nQuestions – call or text 203-815-0947
URL:https://shorelinegreenwaytrail.org/event/shoreline-greenway-trail-guilford-first-saturday-ride-historic-guilford/
CATEGORIES:BIKE Rides,First Saturdays|Guilford,Guilford,Guilford 1st Sat
END:VEVENT
BEGIN:VEVENT
DTSTART;TZID=America/New_York:20250405T100000
DTEND;TZID=America/New_York:20250405T120000
DTSTAMP:20260423T054716
CREATED:20250105T165313Z
LAST-MODIFIED:20250105T165313Z
UID:2884-1743847200-1743854400@shorelinegreenwaytrail.org
SUMMARY:Shoreline Greenway Trail\, 1st Saturday Walk\, Guilford Apr 5th
DESCRIPTION:Shoreline Greenway Trail is hosting a scenic hike at the 600-acre Timberland\nPreserve in Guilford. We will look and listen for amphibians and explore vernal pools. \nThe Guilford Conservation Commission manages the preserve\, which was\npurchased by the Town of Guilford in 1975. The golf course is within the\nboundaries of the preserve. \nMeet at the parking area entrance on Route 80 near Maple Hill Road at 10AM\, April 5th. \nDogs on leashes are allowed. \nQuestions: 203-804-92857
URL:https://shorelinegreenwaytrail.org/event/shoreline-greenway-trail-1st-saturday-walk-guilford-apr-5th/
CATEGORIES:First Saturdays,First Saturdays|Guilford,Guilford,Guilford 1st Sat
END:VEVENT
END:VCALENDAR