BEGIN:VCALENDAR
VERSION:2.0
PRODID:-//Shoreline Greenway Trail - ECPv6.15.18//NONSGML v1.0//EN
CALSCALE:GREGORIAN
METHOD:PUBLISH
X-WR-CALNAME:Shoreline Greenway Trail
X-ORIGINAL-URL:https://shorelinegreenwaytrail.org
X-WR-CALDESC:Events for Shoreline Greenway Trail
REFRESH-INTERVAL;VALUE=DURATION:PT1H
X-Robots-Tag:noindex
X-PUBLISHED-TTL:PT1H
BEGIN:VTIMEZONE
TZID:America/New_York
BEGIN:DAYLIGHT
TZOFFSETFROM:-0500
TZOFFSETTO:-0400
TZNAME:EDT
DTSTART:20240310T070000
END:DAYLIGHT
BEGIN:STANDARD
TZOFFSETFROM:-0400
TZOFFSETTO:-0500
TZNAME:EST
DTSTART:20241103T060000
END:STANDARD
BEGIN:DAYLIGHT
TZOFFSETFROM:-0500
TZOFFSETTO:-0400
TZNAME:EDT
DTSTART:20250309T070000
END:DAYLIGHT
BEGIN:STANDARD
TZOFFSETFROM:-0400
TZOFFSETTO:-0500
TZNAME:EST
DTSTART:20251102T060000
END:STANDARD
BEGIN:DAYLIGHT
TZOFFSETFROM:-0500
TZOFFSETTO:-0400
TZNAME:EDT
DTSTART:20260308T070000
END:DAYLIGHT
BEGIN:STANDARD
TZOFFSETFROM:-0400
TZOFFSETTO:-0500
TZNAME:EST
DTSTART:20261101T060000
END:STANDARD
END:VTIMEZONE
BEGIN:VEVENT
DTSTART;TZID=America/New_York:20251019T090000
DTEND;TZID=America/New_York:20251019T120000
DTSTAMP:20260422T120137
CREATED:20250824T150043Z
LAST-MODIFIED:20250824T150043Z
UID:4261-1760864400-1760875200@shorelinegreenwaytrail.org
SUMMARY:Shoreline Greenway Trail\, SGT 30\, Bike Ride\, October 19th
DESCRIPTION:October 19th\, 2025\nLook for details on this upcoming ride along the entire route of Shoreline Greenway Trail.\nStart at Union Terminal\, New Have with end in Madison near train station.\nMaps – Shoreline Greenway Trail
URL:https://shorelinegreenwaytrail.org/event/shoreline-greenway-trail-sgt-30-bike-ride-october-19th/
LOCATION:CT
CATEGORIES:BIKE Rides,BIKE Rides|Branford|New Haven,Branford,East Haven,Guilford,Madison,New Haven
ATTACH;FMTTYPE=image/jpeg:https://shorelinegreenwaytrail.org/wp-content/uploads/2025/08/IMG-4269-scaled.jpg
END:VEVENT
BEGIN:VEVENT
DTSTART;TZID=America/New_York:20251030T180000
DTEND;TZID=America/New_York:20251030T193000
DTSTAMP:20260422T120137
CREATED:20251021T170055Z
LAST-MODIFIED:20251021T170055Z
UID:4659-1761847200-1761852600@shorelinegreenwaytrail.org
SUMMARY:New Haven Town Team Meetup - Shoreline Greenway Trail
DESCRIPTION:Let’s Strengthen the Connection Between New Haven and the Shoreline Greenway Trail \nWe are organizing so community members who use our New Haven urban trail and bike network have better access to the shoreline. \nRefreshments provided! Please register so we can plan to cover everyone. This is a hybrid meeting\, available on Zoom as well.
URL:https://shorelinegreenwaytrail.org/event/new-haven-town-team-meetup-shoreline-greenway-trail/
LOCATION:Lighthouse Fire House Community Room\, 510 Lighthouse Road\, New Haven\, 06512\, United States
CATEGORIES:New Haven
ORGANIZER;CN="Connecticut Trails Learning Community":MAILTO:laura.kelly@uconn.edu
END:VEVENT
END:VCALENDAR