BEGIN:VCALENDAR
VERSION:2.0
PRODID:-//Shoreline Greenway Trail - ECPv6.15.18//NONSGML v1.0//EN
CALSCALE:GREGORIAN
METHOD:PUBLISH
X-WR-CALNAME:Shoreline Greenway Trail
X-ORIGINAL-URL:https://shorelinegreenwaytrail.org
X-WR-CALDESC:Events for Shoreline Greenway Trail
REFRESH-INTERVAL;VALUE=DURATION:PT1H
X-Robots-Tag:noindex
X-PUBLISHED-TTL:PT1H
BEGIN:VTIMEZONE
TZID:America/New_York
BEGIN:DAYLIGHT
TZOFFSETFROM:-0500
TZOFFSETTO:-0400
TZNAME:EDT
DTSTART:20240310T070000
END:DAYLIGHT
BEGIN:STANDARD
TZOFFSETFROM:-0400
TZOFFSETTO:-0500
TZNAME:EST
DTSTART:20241103T060000
END:STANDARD
BEGIN:DAYLIGHT
TZOFFSETFROM:-0500
TZOFFSETTO:-0400
TZNAME:EDT
DTSTART:20250309T070000
END:DAYLIGHT
BEGIN:STANDARD
TZOFFSETFROM:-0400
TZOFFSETTO:-0500
TZNAME:EST
DTSTART:20251102T060000
END:STANDARD
BEGIN:DAYLIGHT
TZOFFSETFROM:-0500
TZOFFSETTO:-0400
TZNAME:EDT
DTSTART:20260308T070000
END:DAYLIGHT
BEGIN:STANDARD
TZOFFSETFROM:-0400
TZOFFSETTO:-0500
TZNAME:EST
DTSTART:20261101T060000
END:STANDARD
END:VTIMEZONE
BEGIN:VEVENT
DTSTART;TZID=America/New_York:20250315T083000
DTEND;TZID=America/New_York:20250315T100000
DTSTAMP:20260423T004433
CREATED:20250308T144655Z
LAST-MODIFIED:20250313T183823Z
UID:3217-1742027400-1742032800@shorelinegreenwaytrail.org
SUMMARY:New Haven SEAL-SLEUTHING Expedition!!  New Haven Bioregional Group
DESCRIPTION:Bioregional Seal Sleuthing Expedition\nhttps://www.facebook.com/events/1401337311273221?\nHow did “Chappy” New Haven’s now-famous wayward seal get to Chapel Street from New Haven harbor?\nAnd why did it undertake such a hazardous journey?\nJoin us for a special bioregional investigation led by master seal sleuth Chris Ozyck. We will trace the path taken by the seal from the harbor\, under the highway\, where it crossed East Street and passed through a parking lot up to Chapel (depending on weather\, we may even be able to see some of the original seal tracks). We will discuss some of the various theories about why the young seal ventured so far from the water.\nMeanwhile Aaron Goode from the Bioregional Group will discuss the history of New Haven’s “Dragon Point\,” the historic community at the mouth of the Quinnipiac River that was named after a community of large harbor seals living in New Haven’s rich estuaries; current water quality issues affecting marine life in the harbor; and the ongoing development of a Shoreline Greenway Trail in New Haven that will allow residents to experience the waterfront and its wildlife in new and exciting ways.\nHope you can join us for this seal sleuthing adventure!\nMeet at the Canal Boathouse\nhttps://facebook.com/CanalDock \nFor more info\, contact us at (203) 350-3795.\nnewhavenbioregionalgroup.org
URL:https://shorelinegreenwaytrail.org/event/new-haven-seal-sleuthing-expidition-new-haven-bioregional-group/
LOCATION:CT
CATEGORIES:Bioregional Group - New Haven,New Haven,Partner Events
END:VEVENT
END:VCALENDAR