BEGIN:VCALENDAR
VERSION:2.0
PRODID:-//Shoreline Greenway Trail - ECPv6.15.18//NONSGML v1.0//EN
CALSCALE:GREGORIAN
METHOD:PUBLISH
X-WR-CALNAME:Shoreline Greenway Trail
X-ORIGINAL-URL:https://shorelinegreenwaytrail.org
X-WR-CALDESC:Events for Shoreline Greenway Trail
REFRESH-INTERVAL;VALUE=DURATION:PT1H
X-Robots-Tag:noindex
X-PUBLISHED-TTL:PT1H
BEGIN:VTIMEZONE
TZID:America/New_York
BEGIN:DAYLIGHT
TZOFFSETFROM:-0500
TZOFFSETTO:-0400
TZNAME:EDT
DTSTART:20250309T070000
END:DAYLIGHT
BEGIN:STANDARD
TZOFFSETFROM:-0400
TZOFFSETTO:-0500
TZNAME:EST
DTSTART:20251102T060000
END:STANDARD
BEGIN:DAYLIGHT
TZOFFSETFROM:-0500
TZOFFSETTO:-0400
TZNAME:EDT
DTSTART:20260308T070000
END:DAYLIGHT
BEGIN:STANDARD
TZOFFSETFROM:-0400
TZOFFSETTO:-0500
TZNAME:EST
DTSTART:20261101T060000
END:STANDARD
BEGIN:DAYLIGHT
TZOFFSETFROM:-0500
TZOFFSETTO:-0400
TZNAME:EDT
DTSTART:20270314T070000
END:DAYLIGHT
BEGIN:STANDARD
TZOFFSETFROM:-0400
TZOFFSETTO:-0500
TZNAME:EST
DTSTART:20271107T060000
END:STANDARD
END:VTIMEZONE
BEGIN:VEVENT
DTSTART;TZID=America/New_York:20260128T140000
DTEND;TZID=America/New_York:20260128T150000
DTSTAMP:20260424T155032
CREATED:20260122T195816Z
LAST-MODIFIED:20260122T195816Z
UID:5106-1769608800-1769612400@shorelinegreenwaytrail.org
SUMMARY:Shoreline Greenway Trail -2025 Intern\, offers a Free Zoom Seminar: 'Building a Resilient Trail"\, Wed Jan 28th\, 2-3pm
DESCRIPTION:Shoreline Greenway Trail -2025 Intern\, offers a Free Zoom Seminar: ‘Building a Resilient Trail”\, Wed Jan 28th\, 2-3pm \n\n\nThis presentation by Daisy Everingham (Shoreline Greenway Trail) will cover the contents of Shoreline Greenway Trail’s ‘Building a Resilient Trail’ report – outlining how the report was created\, what can be done to adapt a trail to the impacts of climate change and ultimately how multi-use trails in Connecticut can be key drivers of climate resilience in the state.\nQuestions are encouraged!\n\n\nMeeting room:\nhttps://zoom.us/j/94150961232 \nOr to call in:\n+1 309 205 3325\n—\nMeeting ID: 941 5096 1232
URL:https://shorelinegreenwaytrail.org/event/shoreline-greenway-trail-2025-intern-offers-a-free-zoom-seminar-building-a-resilient-trail-wed-jan-28th-2-3pm/
LOCATION:Virtual Webinar via Zoom\, CT\, United States
CATEGORIES:Meetings|Partner Events,New Haven,Trolley and Trail
ATTACH;FMTTYPE=image/jpeg:https://shorelinegreenwaytrail.org/wp-content/uploads/2023/11/Cartouche-Green.jpg
ORGANIZER;CN="Connecticut Trails Learning Community":MAILTO:laura.kelly@uconn.edu
END:VEVENT
END:VCALENDAR